BEGIN:VCALENDAR
VERSION:2.0
PRODID:-//Un instant pour moi - ECPv6.15.20//NONSGML v1.0//EN
CALSCALE:GREGORIAN
METHOD:PUBLISH
X-ORIGINAL-URL:https://www.instantpourmoi.ch
X-WR-CALDESC:Évènements pour Un instant pour moi
REFRESH-INTERVAL;VALUE=DURATION:PT1H
X-Robots-Tag:noindex
X-PUBLISHED-TTL:PT1H
BEGIN:VTIMEZONE
TZID:Europe/Paris
BEGIN:DAYLIGHT
TZOFFSETFROM:+0100
TZOFFSETTO:+0200
TZNAME:CEST
DTSTART:20250330T010000
END:DAYLIGHT
BEGIN:STANDARD
TZOFFSETFROM:+0200
TZOFFSETTO:+0100
TZNAME:CET
DTSTART:20251026T010000
END:STANDARD
BEGIN:DAYLIGHT
TZOFFSETFROM:+0100
TZOFFSETTO:+0200
TZNAME:CEST
DTSTART:20260329T010000
END:DAYLIGHT
BEGIN:STANDARD
TZOFFSETFROM:+0200
TZOFFSETTO:+0100
TZNAME:CET
DTSTART:20261025T010000
END:STANDARD
BEGIN:DAYLIGHT
TZOFFSETFROM:+0100
TZOFFSETTO:+0200
TZNAME:CEST
DTSTART:20270328T010000
END:DAYLIGHT
BEGIN:STANDARD
TZOFFSETFROM:+0200
TZOFFSETTO:+0100
TZNAME:CET
DTSTART:20271031T010000
END:STANDARD
BEGIN:DAYLIGHT
TZOFFSETFROM:+0100
TZOFFSETTO:+0200
TZNAME:CEST
DTSTART:20280326T010000
END:DAYLIGHT
BEGIN:STANDARD
TZOFFSETFROM:+0200
TZOFFSETTO:+0100
TZNAME:CET
DTSTART:20281029T010000
END:STANDARD
END:VTIMEZONE
BEGIN:VEVENT
DTSTART;TZID=Europe/Paris:20260506T190000
DTEND;TZID=Europe/Paris:20271202T220000
DTSTAMP:20260422T014947
CREATED:20260109T131445Z
LAST-MODIFIED:20260326T141902Z
UID:883-1778094000-1827784800@www.instantpourmoi.ch
SUMMARY:Voyage au cœur des 7 portes intérieures
DESCRIPTION: Voyage au Cœur des 7 Portes Intérieures \nUne expérience immersive et sensorielle pour explorer tes chakras et te reconnecter à ton essence profonde. \nChaque atelier est une porte. Une invitation que Camille (Perle d’étoiles) et Stéphanie (Un instant pour moi) vous proposent d’ouvrir ensemble\, pour laisser vibrer tout votre être. \n Ce que vous allez vivre :\n\n Corps & Mouvement : Des pratiques douces pour habiter pleinement son temple intérieur.\nSon & Vibration : La magie des bols tibétains et des mantras pour s’aligner.\n Massage & Créativité : Des rituels de toucher et la création d’ancrages personnels.\n Parfums d’Éveil : La puissance des huiles essentielles pour libérer les émotions.\n\n Pourquoi nous rejoindre ?\nParce qu’un voyage ne se raconte pas\, il se ressent. Nous avons créé ce cycle comme un véritable cocon bienveillant\, un espace pour s’offrir de la douceur\, de la clarté et une transformation profonde\, étape par étape. \nÀ qui s’adresse ce cycle ?\nÀ toute personne en quête d’alignement\, de présence et de reconnexion. Que vous fassiez vos premiers pas ou que vous soyez déjà sur un chemin d’éveil\, vous êtes les bienvenu·e·s. Aucun prérequis\, juste l’envie de ressentir. \n📅 Infos Pratiques\n\nTarif : 80.– l’atelier (480.– pour le cycle complet de 7 ateliers)\nLieu : Shalazen\, Forel\nDates : mercredi 6 mai / mercredi 3 juin / mercredi 8 juillet / mercredi 2 septembre 7 mercredi 7 octobre / mercredi 4 novembre / mercredi 2 décembre\n\n  \n📩 Inscriptions & Infos\nLes places sont limitées pour garantir la qualité de l’accompagnement. Contactez-nous pour réserver votre voyage : \n\nStéphanie : 078 714 40 36 | www.instantpourmoi.ch\nCamille : 079 829 43 91 | www.perledetoiles.ch\n\nAvec tout notre amour\, Camille et Stéphanie \n 
URL:https://www.instantpourmoi.ch/event/voyage-au-coeur-des-7-portes-interieures/
LOCATION:Shalazen\, Route de Grandvaux 22\, Forel\, 1072
CATEGORIES:atelier
ATTACH;FMTTYPE=image/png:https://www.instantpourmoi.ch/wp-content/uploads/2026/01/flyer-atelier.png
END:VEVENT
END:VCALENDAR